BEGIN:VCALENDAR
PRODID:-//event//iCal4j 1.0//EN
CALSCALE:GREGORIAN
BEGIN:VEVENT
DTSTAMP:20260424T160852Z
DTSTART:20250805T130000Z
DTEND:20250805T220000Z
SUMMARY:brownfields-2025
LOCATION:
END:VEVENT
END:VCALENDAR
