BEGIN:VCALENDAR
PRODID:-//event//iCal4j 1.0//EN
CALSCALE:GREGORIAN
BEGIN:VEVENT
DTSTAMP:20260420T065752Z
DTSTART:20250905T140000Z
DTEND:20250905T180000Z
SUMMARY:56th-district-job-fair
LOCATION:
END:VEVENT
END:VCALENDAR
